BEGIN:VCALENDAR
PRODID:-//eluceo/ical//2.0/EN
VERSION:2.0
CALSCALE:GREGORIAN
BEGIN:VEVENT
UID:5250547f377b7de2abb33c4537b25fb6
DTSTAMP:20260422T175758Z
SUMMARY:Billie Eilish - Hit Me Hard and Soft: The Tour
DTSTART;TZID=Europe/Prague:20260509T173000
DTEND;TZID=Europe/Prague:20260509T192400
LOCATION:Univerzitní kino Scala
END:VEVENT
END:VCALENDAR
BEGIN:VCALENDAR
PRODID:-//eluceo/ical//2.0/EN
VERSION:2.0
CALSCALE:GREGORIAN
BEGIN:VEVENT
UID:c4cd23043480848af03ebf676e27aad4
DTSTAMP:20260422T175758Z
SUMMARY:Billie Eilish - Hit Me Hard and Soft: The Tour
DTSTART;TZID=Europe/Prague:20260509T173000
DTEND;TZID=Europe/Prague:20260509T192400
LOCATION:Univerzitní kino Scala
END:VEVENT
END:VCALENDAR
