BEGIN:VCALENDAR
PRODID:-//eluceo/ical//2.0/EN
VERSION:2.0
CALSCALE:GREGORIAN
BEGIN:VEVENT
UID:73966aecced2f53efbf6b7bd27bbcfb4
DTSTAMP:20260422T180130Z
SUMMARY:Billie Eilish - Hit Me Hard and Soft: The Tour
DTSTART;TZID=Europe/Prague:20260510T200000
DTEND;TZID=Europe/Prague:20260510T215400
LOCATION:Univerzitní kino Scala
END:VEVENT
END:VCALENDAR
BEGIN:VCALENDAR
PRODID:-//eluceo/ical//2.0/EN
VERSION:2.0
CALSCALE:GREGORIAN
BEGIN:VEVENT
UID:de13899fa7b72281c6c3766e4aecba63
DTSTAMP:20260422T180130Z
SUMMARY:Billie Eilish - Hit Me Hard and Soft: The Tour
DTSTART;TZID=Europe/Prague:20260510T200000
DTEND;TZID=Europe/Prague:20260510T215400
LOCATION:Univerzitní kino Scala
END:VEVENT
END:VCALENDAR
