BEGIN:VCALENDAR
PRODID:-//eluceo/ical//2.0/EN
VERSION:2.0
CALSCALE:GREGORIAN
BEGIN:VEVENT
UID:3f6ea2bb71a56ab6a340b90fc19b13c0
DTSTAMP:20260422T175346Z
SUMMARY:Billie Eilish - Hit Me Hard and Soft: The Tour
DTSTART;TZID=Europe/Prague:20260513T173000
DTEND;TZID=Europe/Prague:20260513T192400
LOCATION:Univerzitní kino Scala
END:VEVENT
END:VCALENDAR
BEGIN:VCALENDAR
PRODID:-//eluceo/ical//2.0/EN
VERSION:2.0
CALSCALE:GREGORIAN
BEGIN:VEVENT
UID:f1fb3591d1dd04d18a30946b92de20bd
DTSTAMP:20260422T175346Z
SUMMARY:Billie Eilish - Hit Me Hard and Soft: The Tour
DTSTART;TZID=Europe/Prague:20260513T173000
DTEND;TZID=Europe/Prague:20260513T192400
LOCATION:Univerzitní kino Scala
END:VEVENT
END:VCALENDAR
